BEGIN:VCALENDAR
VERSION:2.0
PRODID:-//Library Market//iCal Export//EN
BEGIN:VEVENT
SUMMARY:Introduction to Basic Book Repair: Decision-Making and Techniques 
 for Circulating Collections (Madera)
UID:13109
DTSTAMP:20260420T171800Z
DTSTART:20260709T160000Z
DTEND:20260709T230000Z
LOCATION:Madera Main Library, 121 N. G Street, Madera, CA 93637, United St
 ates
ROOM: In the Community
DESCRIPTION:In-person event | Madera, CA | 9:00 am - 4:00 pmLearn how to m
 ake basic book repairs for circulating or general collections in this one-
 day, hands-on workshop taught by UCLA Library’s Book and Paper Conservat
 or, Nicole Alvarado. Participants will spend the first hour and a half lea
 rning about proper book handling procedures and examining bound materials.
  This will be followed by hands-on practice performing basic repairs such 
 as hinge repair, minor spine repair, tear repairs, and tipping-in loose pa
 ges.Due to the hands-on nature of the workshop, attendance is limited to 1
 5 participants.Who should attendLibrary, archives, and other staff who hav
 e responsibility for the preservation of circulating collections.Presenter
 : Nicole Alvarado, UCLA Library’s Book and Paper Conservator Address o
 f Hosting LibraryMadera Main Library121 N. G Street in Madera, 93637Travel
  and Parking InformationStreet parking is availableCarpooling is strongly 
 encouraged.Travel Reimbursement InformationCALL will reimburse travel b
 y personal vehicle or public transit for library workers traveling 50 mi
 les roundtrip or more.Reimbursements are not allowed when using governmen
 t or city cars.Reimbursement for mileage is 72.5 cents per mile.Public 
 transit expenses will be reimbursed when they represent a reasonable a
 nd cost-effective means of travel. Reimbursement is limited to standard
  fares and does not include premium or upgraded services. Track: Book Rep
 air 
URL:https://events.callacademy.org/event/introduction-basic-book-repair-de
 cision-making-and-techniques-circulating-collections-madera
END:VEVENT
END:VCALENDAR
